BEGIN:VCALENDAR
VERSION:2.0
PRODID:-//GERS - ECPv6.15.20//NONSGML v1.0//EN
CALSCALE:GREGORIAN
METHOD:PUBLISH
X-WR-CALNAME:GERS
X-ORIGINAL-URL:https://www.usvigers.com
X-WR-CALDESC:Events for GERS
REFRESH-INTERVAL;VALUE=DURATION:PT1H
X-Robots-Tag:noindex
X-PUBLISHED-TTL:PT1H
BEGIN:VTIMEZONE
TZID:America/Halifax
BEGIN:DAYLIGHT
TZOFFSETFROM:-0400
TZOFFSETTO:-0300
TZNAME:ADT
DTSTART:20250309T060000
END:DAYLIGHT
BEGIN:STANDARD
TZOFFSETFROM:-0300
TZOFFSETTO:-0400
TZNAME:AST
DTSTART:20251102T050000
END:STANDARD
BEGIN:DAYLIGHT
TZOFFSETFROM:-0400
TZOFFSETTO:-0300
TZNAME:ADT
DTSTART:20260308T060000
END:DAYLIGHT
BEGIN:STANDARD
TZOFFSETFROM:-0300
TZOFFSETTO:-0400
TZNAME:AST
DTSTART:20261101T050000
END:STANDARD
BEGIN:DAYLIGHT
TZOFFSETFROM:-0400
TZOFFSETTO:-0300
TZNAME:ADT
DTSTART:20270314T060000
END:DAYLIGHT
BEGIN:STANDARD
TZOFFSETFROM:-0300
TZOFFSETTO:-0400
TZNAME:AST
DTSTART:20271107T050000
END:STANDARD
END:VTIMEZONE
BEGIN:VEVENT
DTSTART;TZID=America/Halifax:20260408T100000
DTEND;TZID=America/Halifax:20260408T120000
DTSTAMP:20260423T033425
CREATED:20231016T183514Z
LAST-MODIFIED:20260114T102314Z
UID:3773-1775642400-1775649600@www.usvigers.com
SUMMARY:Pre-Retirement Workshop
DESCRIPTION:Open to active members at any stage of their career. \nID 898 6332 7550
URL:https://www.usvigers.com/event/pre-retirement-workshop/
LOCATION:Online Meeting
CATEGORIES:Member Education
ATTACH;FMTTYPE=image/jpeg:https://www.usvigers.com/wp-content/uploads/2023/10/pre-ret-webinar-800x450-1.jpg
END:VEVENT
END:VCALENDAR