BEGIN:VCALENDAR
VERSION:2.0
PRODID:-//GERS - ECPv6.15.20//NONSGML v1.0//EN
CALSCALE:GREGORIAN
METHOD:PUBLISH
X-WR-CALNAME:GERS
X-ORIGINAL-URL:https://www.usvigers.com
X-WR-CALDESC:Events for GERS
REFRESH-INTERVAL;VALUE=DURATION:PT1H
X-Robots-Tag:noindex
X-PUBLISHED-TTL:PT1H
BEGIN:VTIMEZONE
TZID:America/Halifax
BEGIN:DAYLIGHT
TZOFFSETFROM:-0400
TZOFFSETTO:-0300
TZNAME:ADT
DTSTART:20230312T060000
END:DAYLIGHT
BEGIN:STANDARD
TZOFFSETFROM:-0300
TZOFFSETTO:-0400
TZNAME:AST
DTSTART:20231105T050000
END:STANDARD
BEGIN:DAYLIGHT
TZOFFSETFROM:-0400
TZOFFSETTO:-0300
TZNAME:ADT
DTSTART:20240310T060000
END:DAYLIGHT
BEGIN:STANDARD
TZOFFSETFROM:-0300
TZOFFSETTO:-0400
TZNAME:AST
DTSTART:20241103T050000
END:STANDARD
BEGIN:DAYLIGHT
TZOFFSETFROM:-0400
TZOFFSETTO:-0300
TZNAME:ADT
DTSTART:20250309T060000
END:DAYLIGHT
BEGIN:STANDARD
TZOFFSETFROM:-0300
TZOFFSETTO:-0400
TZNAME:AST
DTSTART:20251102T050000
END:STANDARD
BEGIN:DAYLIGHT
TZOFFSETFROM:-0400
TZOFFSETTO:-0300
TZNAME:ADT
DTSTART:20260308T060000
END:DAYLIGHT
BEGIN:STANDARD
TZOFFSETFROM:-0300
TZOFFSETTO:-0400
TZNAME:AST
DTSTART:20261101T050000
END:STANDARD
BEGIN:DAYLIGHT
TZOFFSETFROM:-0400
TZOFFSETTO:-0300
TZNAME:ADT
DTSTART:20270314T060000
END:DAYLIGHT
BEGIN:STANDARD
TZOFFSETFROM:-0300
TZOFFSETTO:-0400
TZNAME:AST
DTSTART:20271107T050000
END:STANDARD
END:VTIMEZONE
BEGIN:VEVENT
DTSTART;TZID=America/Halifax:20260422T100000
DTEND;TZID=America/Halifax:20260422T120000
DTSTAMP:20260424T211823
CREATED:20250709T145811Z
LAST-MODIFIED:20260131T195116Z
UID:6056-1776852000-1776859200@www.usvigers.com
SUMMARY:Countdown to Retirement Workshop
DESCRIPTION:Open to active members who are at least 2 years away form retirement. \nID 864 3344 0466
URL:https://www.usvigers.com/event/countdown-to-retirement-workshop-3/
LOCATION:Online Meeting
CATEGORIES:Member Education
ATTACH;FMTTYPE=image/jpeg:https://www.usvigers.com/wp-content/uploads/2023/05/webinar-man-800x450-1.jpg
END:VEVENT
BEGIN:VEVENT
DTSTART;TZID=America/Halifax:20260415T173000
DTEND;TZID=America/Halifax:20260415T190000
DTSTAMP:20260424T211823
CREATED:20250303T214729Z
LAST-MODIFIED:20260306T185827Z
UID:4596-1776274200-1776279600@www.usvigers.com
SUMMARY:Why do I Need Legal Documents Now?
DESCRIPTION:Objectives:\n1) Learn the difference between the different types of estate planning documents (i.e. Will\, Power of Attorney (POA)\, Medical Power of Attorney\, Living Will or a Trust)\n2) Learn how the different types can affect your family dynamics
URL:https://www.usvigers.com/event/why-do-i-need-legal-documents-now/
LOCATION:Online Meeting
CATEGORIES:Member Education
END:VEVENT
BEGIN:VEVENT
DTSTART;TZID=America/Halifax:20260408T100000
DTEND;TZID=America/Halifax:20260408T120000
DTSTAMP:20260424T211823
CREATED:20231016T183514Z
LAST-MODIFIED:20260114T102314Z
UID:3773-1775642400-1775649600@www.usvigers.com
SUMMARY:Pre-Retirement Workshop
DESCRIPTION:Open to active members at any stage of their career. \nID 898 6332 7550
URL:https://www.usvigers.com/event/pre-retirement-workshop/
LOCATION:Online Meeting
CATEGORIES:Member Education
ATTACH;FMTTYPE=image/jpeg:https://www.usvigers.com/wp-content/uploads/2023/10/pre-ret-webinar-800x450-1.jpg
END:VEVENT
BEGIN:VEVENT
DTSTART;TZID=America/Halifax:20260325T173000
DTEND;TZID=America/Halifax:20260325T183000
DTSTAMP:20260424T211823
CREATED:20250717T153518Z
LAST-MODIFIED:20260306T185319Z
UID:6146-1774459800-1774463400@www.usvigers.com
SUMMARY:Understanding Key Financial Terms (Part 2 of 2)
DESCRIPTION:Objective:\nProvide clear definitions of key financial terms that participants should be familiar with as they progress through the series.
URL:https://www.usvigers.com/event/financial-vocabulary-for-everyday-life/
LOCATION:Online Meeting
CATEGORIES:Member Education
END:VEVENT
BEGIN:VEVENT
DTSTART;TZID=America/Halifax:20260311T173000
DTEND;TZID=America/Halifax:20260311T183000
DTSTAMP:20260424T211823
CREATED:20250717T153039Z
LAST-MODIFIED:20260306T185121Z
UID:6142-1773250200-1773253800@www.usvigers.com
SUMMARY:Understanding Key Financial Terms (Part 1 of 2)
DESCRIPTION:Objective:\nProvide clear definitions of key financial terms that participants should be familiar with as they progress through the series.
URL:https://www.usvigers.com/event/developing-good-credit-habits/
LOCATION:Online Meeting
CATEGORIES:Member Education
END:VEVENT
BEGIN:VEVENT
DTSTART;TZID=America/Halifax:20241218T173000
DTEND;TZID=America/Halifax:20241218T190000
DTSTAMP:20260424T211823
CREATED:20241028T175108Z
LAST-MODIFIED:20241028T175108Z
UID:4428-1734543000-1734548400@www.usvigers.com
SUMMARY:VI-GERS Financial Wellness Workshop Series
DESCRIPTION:Hosted by AARP. Open to the public.
URL:https://www.usvigers.com/event/vi-gers-financial-wellness-workshop-series-2/
LOCATION:Online Meeting
CATEGORIES:Member Education
ATTACH;FMTTYPE=image/jpeg:https://www.usvigers.com/wp-content/uploads/2024/10/financial-event-800x450-1.jpg
END:VEVENT
BEGIN:VEVENT
DTSTART;TZID=America/Halifax:20241120T173000
DTEND;TZID=America/Halifax:20241120T190000
DTSTAMP:20260424T211823
CREATED:20241028T171841Z
LAST-MODIFIED:20241028T172022Z
UID:4413-1732123800-1732129200@www.usvigers.com
SUMMARY:VI-GERS Financial Wellness Workshop Series
DESCRIPTION:Hosted by AARP. Open to the public.
URL:https://www.usvigers.com/event/vi-gers-financial-wellness-workshop-series/
LOCATION:Online Meeting
CATEGORIES:Member Education
ATTACH;FMTTYPE=image/jpeg:https://www.usvigers.com/wp-content/uploads/2024/10/financial-event-800x450-1.jpg
END:VEVENT
END:VCALENDAR