BEGIN:VCALENDAR
VERSION:2.0
PRODID:-//GERS - ECPv6.15.20//NONSGML v1.0//EN
CALSCALE:GREGORIAN
METHOD:PUBLISH
X-WR-CALNAME:GERS
X-ORIGINAL-URL:https://www.usvigers.com
X-WR-CALDESC:Events for GERS
REFRESH-INTERVAL;VALUE=DURATION:PT1H
X-Robots-Tag:noindex
X-PUBLISHED-TTL:PT1H
BEGIN:VTIMEZONE
TZID:America/Halifax
BEGIN:DAYLIGHT
TZOFFSETFROM:-0400
TZOFFSETTO:-0300
TZNAME:ADT
DTSTART:20230312T060000
END:DAYLIGHT
BEGIN:STANDARD
TZOFFSETFROM:-0300
TZOFFSETTO:-0400
TZNAME:AST
DTSTART:20231105T050000
END:STANDARD
BEGIN:DAYLIGHT
TZOFFSETFROM:-0400
TZOFFSETTO:-0300
TZNAME:ADT
DTSTART:20240310T060000
END:DAYLIGHT
BEGIN:STANDARD
TZOFFSETFROM:-0300
TZOFFSETTO:-0400
TZNAME:AST
DTSTART:20241103T050000
END:STANDARD
BEGIN:DAYLIGHT
TZOFFSETFROM:-0400
TZOFFSETTO:-0300
TZNAME:ADT
DTSTART:20250309T060000
END:DAYLIGHT
BEGIN:STANDARD
TZOFFSETFROM:-0300
TZOFFSETTO:-0400
TZNAME:AST
DTSTART:20251102T050000
END:STANDARD
END:VTIMEZONE
BEGIN:VEVENT
DTSTART;TZID=America/Halifax:20241025T130000
DTEND;TZID=America/Halifax:20241025T180000
DTSTAMP:20260425T220750
CREATED:20241018T153153Z
LAST-MODIFIED:20250717T152740Z
UID:4379-1729861200-1729879200@www.usvigers.com
SUMMARY:65th Anniversary (STT)
DESCRIPTION:OPEN HOUSE \nLocal partners\, music\, giveaways\, light refreshments.
URL:https://www.usvigers.com/event/65th-anniversary-stt/
LOCATION:GERS Complex (St. Thomas)\, 3438 Kronprindsens Gade\, St. Thomas\, Virgin Islands (U.S.)
CATEGORIES:Special Events
ATTACH;FMTTYPE=image/jpeg:https://www.usvigers.com/wp-content/uploads/2024/10/65th-anniv-event-800x450-1.jpg
END:VEVENT
END:VCALENDAR