BEGIN:VCALENDAR
VERSION:2.0
PRODID:-//GERS - ECPv6.15.20//NONSGML v1.0//EN
CALSCALE:GREGORIAN
METHOD:PUBLISH
X-ORIGINAL-URL:https://www.usvigers.com
X-WR-CALDESC:Events for GERS
REFRESH-INTERVAL;VALUE=DURATION:PT1H
X-Robots-Tag:noindex
X-PUBLISHED-TTL:PT1H
BEGIN:VTIMEZONE
TZID:America/Halifax
BEGIN:DAYLIGHT
TZOFFSETFROM:-0400
TZOFFSETTO:-0300
TZNAME:ADT
DTSTART:20230312T060000
END:DAYLIGHT
BEGIN:STANDARD
TZOFFSETFROM:-0300
TZOFFSETTO:-0400
TZNAME:AST
DTSTART:20231105T050000
END:STANDARD
BEGIN:DAYLIGHT
TZOFFSETFROM:-0400
TZOFFSETTO:-0300
TZNAME:ADT
DTSTART:20240310T060000
END:DAYLIGHT
BEGIN:STANDARD
TZOFFSETFROM:-0300
TZOFFSETTO:-0400
TZNAME:AST
DTSTART:20241103T050000
END:STANDARD
BEGIN:DAYLIGHT
TZOFFSETFROM:-0400
TZOFFSETTO:-0300
TZNAME:ADT
DTSTART:20250309T060000
END:DAYLIGHT
BEGIN:STANDARD
TZOFFSETFROM:-0300
TZOFFSETTO:-0400
TZNAME:AST
DTSTART:20251102T050000
END:STANDARD
BEGIN:DAYLIGHT
TZOFFSETFROM:-0400
TZOFFSETTO:-0300
TZNAME:ADT
DTSTART:20260308T060000
END:DAYLIGHT
BEGIN:STANDARD
TZOFFSETFROM:-0300
TZOFFSETTO:-0400
TZNAME:AST
DTSTART:20261101T050000
END:STANDARD
END:VTIMEZONE
BEGIN:VEVENT
DTSTART;VALUE=DATE:20250319
DTEND;VALUE=DATE:20250320
DTSTAMP:20260424T221423
CREATED:20250303T214542Z
LAST-MODIFIED:20250717T152841Z
UID:4592-1742342400-1742428799@www.usvigers.com
SUMMARY:Customer Service Day - Happy 6 Years!
DESCRIPTION:Open to active members who are 6 months-1 year away from retirement.
URL:https://www.usvigers.com/event/customer-service-day-happy-6-years/
LOCATION:GERS Complexes (STT/STX)
CATEGORIES:Special Events
END:VEVENT
BEGIN:VEVENT
DTSTART;TZID=America/Halifax:20250221T160000
DTEND;TZID=America/Halifax:20250221T200000
DTSTAMP:20260424T221423
CREATED:20250201T113627Z
LAST-MODIFIED:20250717T152824Z
UID:4511-1740153600-1740168000@www.usvigers.com
SUMMARY:Friday Night @ Havensight
DESCRIPTION:Music\, food\, entertainment\, and many vendors.
URL:https://www.usvigers.com/event/friday-night-havensight-3/
LOCATION:Havensight\, Havensight\, St. Thomas\, Virgin Islands (U.S.)
CATEGORIES:Special Events
END:VEVENT
BEGIN:VEVENT
DTSTART;VALUE=DATE:20250215
DTEND;VALUE=DATE:20250217
DTSTAMP:20260424T221423
CREATED:20250201T113419Z
LAST-MODIFIED:20250201T113419Z
UID:4509-1739577600-1739750399@www.usvigers.com
SUMMARY:St. Croix Agrifest Festival
DESCRIPTION:GERS @ the St. Croix Agricultural Fair.
URL:https://www.usvigers.com/event/st-croix-agrifest-festival/
LOCATION:In-Person
CATEGORIES:Special Events
END:VEVENT
BEGIN:VEVENT
DTSTART;TZID=America/Halifax:20241227T160000
DTEND;TZID=America/Halifax:20241227T210000
DTSTAMP:20260424T221423
CREATED:20241028T175330Z
LAST-MODIFIED:20250717T152531Z
UID:4430-1735315200-1735333200@www.usvigers.com
SUMMARY:Friday Night @ Havensight
DESCRIPTION:Music\, food\, entertainment\, and many vendors. Open to the public.
URL:https://www.usvigers.com/event/friday-night-havensight-2/
LOCATION:Havensight\, Havensight\, St. Thomas\, Virgin Islands (U.S.)
CATEGORIES:Special Events
ATTACH;FMTTYPE=image/jpeg:https://www.usvigers.com/wp-content/uploads/2024/10/events-at-havensight-800x450-1.jpg
END:VEVENT
BEGIN:VEVENT
DTSTART;TZID=America/Halifax:20241214T170000
DTEND;TZID=America/Halifax:20241214T200000
DTSTAMP:20260424T221423
CREATED:20241028T173920Z
LAST-MODIFIED:20250717T152541Z
UID:4424-1734195600-1734206400@www.usvigers.com
SUMMARY:Deck the Halls @ Havensight Mall
DESCRIPTION:For Governor Bryan’s Children Christmas Party. Open to the public.
URL:https://www.usvigers.com/event/deck-the-halls-havensight-mall/
LOCATION:Havensight\, Havensight\, St. Thomas\, Virgin Islands (U.S.)
CATEGORIES:Special Events
ATTACH;FMTTYPE=image/jpeg:https://www.usvigers.com/wp-content/uploads/2024/10/dec-holiday-event-800x450-1.jpg
END:VEVENT
BEGIN:VEVENT
DTSTART;VALUE=DATE:20241213
DTEND;VALUE=DATE:20241214
DTSTAMP:20260424T221423
CREATED:20241028T173328Z
LAST-MODIFIED:20250717T152803Z
UID:4421-1734048000-1734134399@www.usvigers.com
SUMMARY:GERS Staff Recognition & Development
DESCRIPTION:The GERS offices will be closed territory wide.
URL:https://www.usvigers.com/event/gers-staff-recognition-development/
LOCATION:GERS Complex (St. Croix)\, 3004 Orange Grove\, Christiansted\, Virgin Islands (U.S.)
CATEGORIES:Special Events
ATTACH;FMTTYPE=image/jpeg:https://www.usvigers.com/wp-content/uploads/2024/10/awards-event-800x450-1.jpg
END:VEVENT
BEGIN:VEVENT
DTSTART;TZID=America/Halifax:20241212T190000
DTEND;TZID=America/Halifax:20241212T190000
DTSTAMP:20260424T221423
CREATED:20241028T172954Z
LAST-MODIFIED:20250717T152757Z
UID:4419-1734030000-1734030000@www.usvigers.com
SUMMARY:GERS Retiree Holiday Social (St. Thomas)
DESCRIPTION:Open to all GVI retirees.
URL:https://www.usvigers.com/event/gers-retiree-holiday-social-st-thomas/
LOCATION:GERS Complex (St. Thomas)\, 3438 Kronprindsens Gade\, St. Thomas\, Virgin Islands (U.S.)
CATEGORIES:Special Events
ATTACH;FMTTYPE=image/jpeg:https://www.usvigers.com/wp-content/uploads/2024/10/dec-holiday-event-800x450-1.jpg
END:VEVENT
BEGIN:VEVENT
DTSTART;TZID=America/Halifax:20241209T160000
DTEND;TZID=America/Halifax:20241209T190000
DTSTAMP:20260424T221423
CREATED:20241028T172411Z
LAST-MODIFIED:20250717T152751Z
UID:4416-1733760000-1733770800@www.usvigers.com
SUMMARY:GERS Retiree Holiday Social (St. Croix)
DESCRIPTION:Open to all GVI retirees.
URL:https://www.usvigers.com/event/gers-retiree-holiday-social-st-croix/
LOCATION:GERS Complex (St. Croix)\, 3004 Orange Grove\, Christiansted\, Virgin Islands (U.S.)
CATEGORIES:Special Events
ATTACH;FMTTYPE=image/jpeg:https://www.usvigers.com/wp-content/uploads/2024/10/dec-holiday-event-800x450-1.jpg
END:VEVENT
BEGIN:VEVENT
DTSTART;TZID=America/Halifax:20241025T130000
DTEND;TZID=America/Halifax:20241025T180000
DTSTAMP:20260424T221423
CREATED:20241018T153153Z
LAST-MODIFIED:20250717T152740Z
UID:4379-1729861200-1729879200@www.usvigers.com
SUMMARY:65th Anniversary (STT)
DESCRIPTION:OPEN HOUSE \nLocal partners\, music\, giveaways\, light refreshments.
URL:https://www.usvigers.com/event/65th-anniversary-stt/
LOCATION:GERS Complex (St. Thomas)\, 3438 Kronprindsens Gade\, St. Thomas\, Virgin Islands (U.S.)
CATEGORIES:Special Events
ATTACH;FMTTYPE=image/jpeg:https://www.usvigers.com/wp-content/uploads/2024/10/65th-anniv-event-800x450-1.jpg
END:VEVENT
BEGIN:VEVENT
DTSTART;TZID=America/Halifax:20241024T130000
DTEND;TZID=America/Halifax:20241024T180000
DTSTAMP:20260424T221423
CREATED:20241018T145511Z
LAST-MODIFIED:20250717T152734Z
UID:4351-1729774800-1729792800@www.usvigers.com
SUMMARY:65th Anniversary (STX)
DESCRIPTION:OPEN HOUSE \nLocal partners\, music\, giveaways\, light refreshments.
URL:https://www.usvigers.com/event/65th-anniversary-stx/
LOCATION:GERS Complex (St. Croix)\, 3004 Orange Grove\, Christiansted\, Virgin Islands (U.S.)
CATEGORIES:Special Events
ATTACH;FMTTYPE=image/jpeg:https://www.usvigers.com/wp-content/uploads/2024/10/65th-anniv-event-800x450-1.jpg
END:VEVENT
END:VCALENDAR