BEGIN:VCALENDAR
VERSION:2.0
PRODID:-//GERS - ECPv6.15.20//NONSGML v1.0//EN
CALSCALE:GREGORIAN
METHOD:PUBLISH
X-ORIGINAL-URL:https://www.usvigers.com
X-WR-CALDESC:Events for GERS
REFRESH-INTERVAL;VALUE=DURATION:PT1H
X-Robots-Tag:noindex
X-PUBLISHED-TTL:PT1H
BEGIN:VTIMEZONE
TZID:America/Halifax
BEGIN:DAYLIGHT
TZOFFSETFROM:-0400
TZOFFSETTO:-0300
TZNAME:ADT
DTSTART:20250309T060000
END:DAYLIGHT
BEGIN:STANDARD
TZOFFSETFROM:-0300
TZOFFSETTO:-0400
TZNAME:AST
DTSTART:20251102T050000
END:STANDARD
BEGIN:DAYLIGHT
TZOFFSETFROM:-0400
TZOFFSETTO:-0300
TZNAME:ADT
DTSTART:20260308T060000
END:DAYLIGHT
BEGIN:STANDARD
TZOFFSETFROM:-0300
TZOFFSETTO:-0400
TZNAME:AST
DTSTART:20261101T050000
END:STANDARD
BEGIN:DAYLIGHT
TZOFFSETFROM:-0400
TZOFFSETTO:-0300
TZNAME:ADT
DTSTART:20270314T060000
END:DAYLIGHT
BEGIN:STANDARD
TZOFFSETFROM:-0300
TZOFFSETTO:-0400
TZNAME:AST
DTSTART:20271107T050000
END:STANDARD
END:VTIMEZONE
BEGIN:VEVENT
DTSTART;TZID=America/Halifax:20260520T173000
DTEND;TZID=America/Halifax:20260520T190000
DTSTAMP:20260424T192303
CREATED:20250303T215133Z
LAST-MODIFIED:20260306T185815Z
UID:4598-1779298200-1779303600@www.usvigers.com
SUMMARY:Understanding the Impact of Account Titling & Ownership Differences
DESCRIPTION:Objectives:\n1) Learn the different types of account titling terms\n2) Learn how the different account titles affect the probate process
URL:https://www.usvigers.com/event/understanding-the-impact-of-account-titling/
LOCATION:Online Meeting
CATEGORIES:Member Education
END:VEVENT
BEGIN:VEVENT
DTSTART;TZID=America/Halifax:20260617T173000
DTEND;TZID=America/Halifax:20260617T190000
DTSTAMP:20260424T192303
CREATED:20260306T190138Z
LAST-MODIFIED:20260306T190138Z
UID:9320-1781717400-1781722800@www.usvigers.com
SUMMARY:Estate Planning Preparedness Demo
DESCRIPTION:Objective:\nLearn about tools available to help guide your decision making and review the AARP estate planning record book to help summarize the Legal Documents & Account Titling sessions and encourage participants to take action.
URL:https://www.usvigers.com/event/estate-planning-preparedness-demo/
LOCATION:Online Meeting
CATEGORIES:Member Education
END:VEVENT
BEGIN:VEVENT
DTSTART;TZID=America/Halifax:20260715T173000
DTEND;TZID=America/Halifax:20260715T190000
DTSTAMP:20260424T192303
CREATED:20260306T190301Z
LAST-MODIFIED:20260306T190301Z
UID:9322-1784136600-1784142000@www.usvigers.com
SUMMARY:Saving For Your Retirement
DESCRIPTION:Objectives:\n1) Learn about the different retirement account types (401k\, IRA\, Roth IRA\, 529 College Savings Plan\, CD’s\, Annuities\, etc.)\n2) Learn how to plan to use them based on your retirement plans
URL:https://www.usvigers.com/event/saving-for-your-retirement/
LOCATION:Online Meeting
CATEGORIES:Member Education
END:VEVENT
BEGIN:VEVENT
DTSTART;TZID=America/Halifax:20260812T173000
DTEND;TZID=America/Halifax:20260812T183000
DTSTAMP:20260424T192303
CREATED:20250331T130741Z
LAST-MODIFIED:20260306T185803Z
UID:4918-1786555800-1786559400@www.usvigers.com
SUMMARY:When Should I Retire?
DESCRIPTION:Objective:\nLearn what planning questions you should be asking yourself before you retire.
URL:https://www.usvigers.com/event/when-should-i-retire/
LOCATION:Online Meeting
CATEGORIES:Member Education
END:VEVENT
BEGIN:VEVENT
DTSTART;TZID=America/Halifax:20260826T173000
DTEND;TZID=America/Halifax:20260826T190000
DTSTAMP:20260424T192303
CREATED:20260306T190523Z
LAST-MODIFIED:20260306T190523Z
UID:9324-1787765400-1787770800@www.usvigers.com
SUMMARY:AARP Retirement Calculator
DESCRIPTION:Objective:\nLearn about tools available to help guide your decision and review the AARP retirement planning tools to encourage participants to take action.
URL:https://www.usvigers.com/event/aarp-retirement-calculator/
LOCATION:Online Meeting
CATEGORIES:Member Education
END:VEVENT
BEGIN:VEVENT
DTSTART;TZID=America/Halifax:20260916T173000
DTEND;TZID=America/Halifax:20260916T183000
DTSTAMP:20260424T192303
CREATED:20250331T130921Z
LAST-MODIFIED:20260306T185002Z
UID:4920-1789579800-1789583400@www.usvigers.com
SUMMARY:I'm Ready to Retire\, Now What?
DESCRIPTION:Objectives:\n1) Learn why it’s important to review your pre-retirement plan\n2) Learn the three most important retirement tax years
URL:https://www.usvigers.com/event/im-ready-to-retire-now-what/
LOCATION:Online Meeting
CATEGORIES:Member Education
END:VEVENT
BEGIN:VEVENT
DTSTART;TZID=America/Halifax:20261021T173000
DTEND;TZID=America/Halifax:20261021T183000
DTSTAMP:20260424T192303
CREATED:20250717T153332Z
LAST-MODIFIED:20260306T185217Z
UID:6144-1792603800-1792607400@www.usvigers.com
SUMMARY:Using Annual Tax Planning to Your Advantage
DESCRIPTION:Objectives:\n1) Learn the difference between tax deductions\, tax credits\, and deductible loss items\n2) Learn how to be proactive when planning to file your annual taxes
URL:https://www.usvigers.com/event/using-annual-tax-planning-to-your-advantage/
LOCATION:Online Meeting
CATEGORIES:Member Education
END:VEVENT
BEGIN:VEVENT
DTSTART;TZID=America/Halifax:20261028T173000
DTEND;TZID=America/Halifax:20261028T183000
DTSTAMP:20260424T192303
CREATED:20250303T213414Z
LAST-MODIFIED:20260306T185517Z
UID:4585-1793208600-1793212200@www.usvigers.com
SUMMARY:Tax Planning Calculator
DESCRIPTION:Objective:\nLearn about tools available to help guide your decision making and review the AARP tax planning calculator and encourage participants to take action.
URL:https://www.usvigers.com/event/financial-planning-for-caregivers/
LOCATION:Online Meeting
CATEGORIES:Member Education
END:VEVENT
BEGIN:VEVENT
DTSTART;TZID=America/Halifax:20261104T173000
DTEND;TZID=America/Halifax:20261104T183000
DTSTAMP:20260424T192303
CREATED:20250717T153710Z
LAST-MODIFIED:20260306T185414Z
UID:6148-1793813400-1793817000@www.usvigers.com
SUMMARY:Reflecting on What We’ve Learned
DESCRIPTION:Objectives:\n1) Summarize the sessions we have done throughout the year\n2) Setting financial goals for the new year
URL:https://www.usvigers.com/event/reflecting-on-what-weve-learned/
LOCATION:Online Meeting
CATEGORIES:Member Education
END:VEVENT
END:VCALENDAR