BEGIN:VCALENDAR
VERSION:2.0
PRODID:-//GERS - ECPv6.15.20//NONSGML v1.0//EN
CALSCALE:GREGORIAN
METHOD:PUBLISH
X-WR-CALNAME:GERS
X-ORIGINAL-URL:https://www.usvigers.com
X-WR-CALDESC:Events for GERS
REFRESH-INTERVAL;VALUE=DURATION:PT1H
X-Robots-Tag:noindex
X-PUBLISHED-TTL:PT1H
BEGIN:VTIMEZONE
TZID:America/Halifax
BEGIN:DAYLIGHT
TZOFFSETFROM:-0400
TZOFFSETTO:-0300
TZNAME:ADT
DTSTART:20250309T060000
END:DAYLIGHT
BEGIN:STANDARD
TZOFFSETFROM:-0300
TZOFFSETTO:-0400
TZNAME:AST
DTSTART:20251102T050000
END:STANDARD
BEGIN:DAYLIGHT
TZOFFSETFROM:-0400
TZOFFSETTO:-0300
TZNAME:ADT
DTSTART:20260308T060000
END:DAYLIGHT
BEGIN:STANDARD
TZOFFSETFROM:-0300
TZOFFSETTO:-0400
TZNAME:AST
DTSTART:20261101T050000
END:STANDARD
BEGIN:DAYLIGHT
TZOFFSETFROM:-0400
TZOFFSETTO:-0300
TZNAME:ADT
DTSTART:20270314T060000
END:DAYLIGHT
BEGIN:STANDARD
TZOFFSETFROM:-0300
TZOFFSETTO:-0400
TZNAME:AST
DTSTART:20271107T050000
END:STANDARD
END:VTIMEZONE
BEGIN:VEVENT
DTSTART;TZID=America/Halifax:20261023T093000
DTEND;TZID=America/Halifax:20261023T103000
DTSTAMP:20260423T114005
CREATED:20260306T183415Z
LAST-MODIFIED:20260406T134727Z
UID:9305-1792747800-1792751400@www.usvigers.com
SUMMARY:Board Business Meeting
DESCRIPTION:Monthly Board meeting. Open to the public.
URL:https://www.usvigers.com/event/board-business-meeting-3/
LOCATION:YouTube
CATEGORIES:Board of Trustees
END:VEVENT
END:VCALENDAR