BEGIN:VCALENDAR
VERSION:2.0
PRODID:-//GERS - ECPv6.15.20//NONSGML v1.0//EN
CALSCALE:GREGORIAN
METHOD:PUBLISH
X-WR-CALNAME:GERS
X-ORIGINAL-URL:https://www.usvigers.com
X-WR-CALDESC:Events for GERS
REFRESH-INTERVAL;VALUE=DURATION:PT1H
X-Robots-Tag:noindex
X-PUBLISHED-TTL:PT1H
BEGIN:VTIMEZONE
TZID:America/Halifax
BEGIN:DAYLIGHT
TZOFFSETFROM:-0400
TZOFFSETTO:-0300
TZNAME:ADT
DTSTART:20250309T060000
END:DAYLIGHT
BEGIN:STANDARD
TZOFFSETFROM:-0300
TZOFFSETTO:-0400
TZNAME:AST
DTSTART:20251102T050000
END:STANDARD
BEGIN:DAYLIGHT
TZOFFSETFROM:-0400
TZOFFSETTO:-0300
TZNAME:ADT
DTSTART:20260308T060000
END:DAYLIGHT
BEGIN:STANDARD
TZOFFSETFROM:-0300
TZOFFSETTO:-0400
TZNAME:AST
DTSTART:20261101T050000
END:STANDARD
BEGIN:DAYLIGHT
TZOFFSETFROM:-0400
TZOFFSETTO:-0300
TZNAME:ADT
DTSTART:20270314T060000
END:DAYLIGHT
BEGIN:STANDARD
TZOFFSETFROM:-0300
TZOFFSETTO:-0400
TZNAME:AST
DTSTART:20271107T050000
END:STANDARD
END:VTIMEZONE
BEGIN:VEVENT
DTSTART;TZID=America/Halifax:20260603T100000
DTEND;TZID=America/Halifax:20260603T120000
DTSTAMP:20260423T090203
CREATED:20250331T130422Z
LAST-MODIFIED:20260114T102754Z
UID:4916-1780480800-1780488000@www.usvigers.com
SUMMARY:Countdown to Retirement Workshop
DESCRIPTION:Open to active members who are at least 2 years away form retirement. \nID 893 7545 9986
URL:https://www.usvigers.com/event/countdown-to-retirement-workshop/
LOCATION:Online Meeting
CATEGORIES:Member Education
ATTACH;FMTTYPE=image/jpeg:https://www.usvigers.com/wp-content/uploads/2023/05/webinar-man-800x450-1.jpg
END:VEVENT
BEGIN:VEVENT
DTSTART;TZID=America/Halifax:20260729T100000
DTEND;TZID=America/Halifax:20260729T120000
DTSTAMP:20260423T090203
CREATED:20231016T190411Z
LAST-MODIFIED:20260131T195156Z
UID:3794-1785319200-1785326400@www.usvigers.com
SUMMARY:Countdown to Retirement Workshop
DESCRIPTION:Open to active members who are at least 2 years away form retirement. \nID 829 0327 2177
URL:https://www.usvigers.com/event/count-down-to-retirement-workshop/
LOCATION:Online Meeting
CATEGORIES:Member Education
ATTACH;FMTTYPE=image/jpeg:https://www.usvigers.com/wp-content/uploads/2023/05/webinar-man-800x450-1.jpg
END:VEVENT
BEGIN:VEVENT
DTSTART;TZID=America/Halifax:20260909T100000
DTEND;TZID=America/Halifax:20260909T120000
DTSTAMP:20260423T090203
CREATED:20260306T181259Z
LAST-MODIFIED:20260306T181335Z
UID:9290-1788948000-1788955200@www.usvigers.com
SUMMARY:Countdown to Retirement Workshop
DESCRIPTION:Open to active members who are at least 2 years away form retirement. \nID 835 4787 3262
URL:https://www.usvigers.com/event/countdown-to-retirement-workshop-4/
LOCATION:Online Meeting
CATEGORIES:Member Education
ATTACH;FMTTYPE=image/jpeg:https://www.usvigers.com/wp-content/uploads/2023/05/webinar-man-800x450-1.jpg
END:VEVENT
BEGIN:VEVENT
DTSTART;TZID=America/Halifax:20261021T100000
DTEND;TZID=America/Halifax:20261021T120000
DTSTAMP:20260423T090203
CREATED:20241017T050016Z
LAST-MODIFIED:20260406T135327Z
UID:3808-1792576800-1792584000@www.usvigers.com
SUMMARY:Countdown to Retirement Workshop
DESCRIPTION:Open to active members who are at least 2 years away from retirement. \nID 830 0617 2815
URL:https://www.usvigers.com/event/countdown-to-retirement-workshop-2/
LOCATION:Online Meeting
CATEGORIES:Member Education
ATTACH;FMTTYPE=image/jpeg:https://www.usvigers.com/wp-content/uploads/2023/05/webinar-man-800x450-1.jpg
END:VEVENT
END:VCALENDAR